BEGIN:VCALENDAR
VERSION:2.0
PRODID:-//Kalamazoo Animal Rescue - ECPv6.15.13//NONSGML v1.0//EN
CALSCALE:GREGORIAN
METHOD:PUBLISH
X-WR-CALNAME:Kalamazoo Animal Rescue
X-ORIGINAL-URL:https://www.kalamazooanimalrescue.org
X-WR-CALDESC:Events for Kalamazoo Animal Rescue
REFRESH-INTERVAL;VALUE=DURATION:PT1H
X-Robots-Tag:noindex
X-PUBLISHED-TTL:PT1H
BEGIN:VTIMEZONE
TZID:America/New_York
BEGIN:DAYLIGHT
TZOFFSETFROM:-0500
TZOFFSETTO:-0400
TZNAME:EDT
DTSTART:20250309T070000
END:DAYLIGHT
BEGIN:STANDARD
TZOFFSETFROM:-0400
TZOFFSETTO:-0500
TZNAME:EST
DTSTART:20251102T060000
END:STANDARD
BEGIN:DAYLIGHT
TZOFFSETFROM:-0500
TZOFFSETTO:-0400
TZNAME:EDT
DTSTART:20260308T070000
END:DAYLIGHT
BEGIN:STANDARD
TZOFFSETFROM:-0400
TZOFFSETTO:-0500
TZNAME:EST
DTSTART:20261101T060000
END:STANDARD
BEGIN:DAYLIGHT
TZOFFSETFROM:-0500
TZOFFSETTO:-0400
TZNAME:EDT
DTSTART:20270314T070000
END:DAYLIGHT
BEGIN:STANDARD
TZOFFSETFROM:-0400
TZOFFSETTO:-0500
TZNAME:EST
DTSTART:20271107T060000
END:STANDARD
BEGIN:DAYLIGHT
TZOFFSETFROM:-0500
TZOFFSETTO:-0400
TZNAME:EDT
DTSTART:20280312T070000
END:DAYLIGHT
BEGIN:STANDARD
TZOFFSETFROM:-0400
TZOFFSETTO:-0500
TZNAME:EST
DTSTART:20281105T060000
END:STANDARD
BEGIN:DAYLIGHT
TZOFFSETFROM:-0500
TZOFFSETTO:-0400
TZNAME:EDT
DTSTART:20290311T070000
END:DAYLIGHT
BEGIN:STANDARD
TZOFFSETFROM:-0400
TZOFFSETTO:-0500
TZNAME:EST
DTSTART:20291104T060000
END:STANDARD
END:VTIMEZONE
BEGIN:VEVENT
DTSTART;TZID=America/New_York:20260509T110000
DTEND;TZID=America/New_York:20260509T130000
DTSTAMP:20260419T212025
CREATED:20250804T202534Z
LAST-MODIFIED:20250903T152248Z
UID:10001209-1778324400-1778331600@www.kalamazooanimalrescue.org
SUMMARY:Adoption Event - Chow Hound Kalamazoo
DESCRIPTION:Every 2nd Saturday of the Month – come see adoptable animals at Chow Hound on Stadium Drive! \nMust be pre-approved to adopt. See our Cats/Kittens and Dogs/Puppies pages here: \nCats and Kittens – Kalamazoo Animal Rescue \nDogs and Puppies – Kalamazoo Animal Rescue
URL:https://www.kalamazooanimalrescue.org/event/adoption-event-chow-hound-kalamazoo/2026-05-09/
LOCATION:Chow Hound – Stadium Dr.\, 5097 Century Ave Suite A\, Kalamazoo\, MI\, 49006\, United States
CATEGORIES:Adoption Events
ATTACH;FMTTYPE=image/png:https://www.kalamazooanimalrescue.org/wp-content/uploads/ADOPTION-EVENT1.png
END:VEVENT
BEGIN:VEVENT
DTSTART;TZID=America/New_York:20260613T110000
DTEND;TZID=America/New_York:20260613T130000
DTSTAMP:20260419T212025
CREATED:20250804T202534Z
LAST-MODIFIED:20250903T152248Z
UID:10001210-1781348400-1781355600@www.kalamazooanimalrescue.org
SUMMARY:Adoption Event - Chow Hound Kalamazoo
DESCRIPTION:Every 2nd Saturday of the Month – come see adoptable animals at Chow Hound on Stadium Drive! \nMust be pre-approved to adopt. See our Cats/Kittens and Dogs/Puppies pages here: \nCats and Kittens – Kalamazoo Animal Rescue \nDogs and Puppies – Kalamazoo Animal Rescue
URL:https://www.kalamazooanimalrescue.org/event/adoption-event-chow-hound-kalamazoo/2026-06-13/
LOCATION:Chow Hound – Stadium Dr.\, 5097 Century Ave Suite A\, Kalamazoo\, MI\, 49006\, United States
CATEGORIES:Adoption Events
ATTACH;FMTTYPE=image/png:https://www.kalamazooanimalrescue.org/wp-content/uploads/ADOPTION-EVENT1.png
END:VEVENT
BEGIN:VEVENT
DTSTART;TZID=America/New_York:20260711T110000
DTEND;TZID=America/New_York:20260711T130000
DTSTAMP:20260419T212025
CREATED:20250804T202534Z
LAST-MODIFIED:20250903T152248Z
UID:10001211-1783767600-1783774800@www.kalamazooanimalrescue.org
SUMMARY:Adoption Event - Chow Hound Kalamazoo
DESCRIPTION:Every 2nd Saturday of the Month – come see adoptable animals at Chow Hound on Stadium Drive! \nMust be pre-approved to adopt. See our Cats/Kittens and Dogs/Puppies pages here: \nCats and Kittens – Kalamazoo Animal Rescue \nDogs and Puppies – Kalamazoo Animal Rescue
URL:https://www.kalamazooanimalrescue.org/event/adoption-event-chow-hound-kalamazoo/2026-07-11/
LOCATION:Chow Hound – Stadium Dr.\, 5097 Century Ave Suite A\, Kalamazoo\, MI\, 49006\, United States
CATEGORIES:Adoption Events
ATTACH;FMTTYPE=image/png:https://www.kalamazooanimalrescue.org/wp-content/uploads/ADOPTION-EVENT1.png
END:VEVENT
BEGIN:VEVENT
DTSTART;TZID=America/New_York:20260808T110000
DTEND;TZID=America/New_York:20260808T130000
DTSTAMP:20260419T212025
CREATED:20250804T202534Z
LAST-MODIFIED:20250903T152248Z
UID:10001212-1786186800-1786194000@www.kalamazooanimalrescue.org
SUMMARY:Adoption Event - Chow Hound Kalamazoo
DESCRIPTION:Every 2nd Saturday of the Month – come see adoptable animals at Chow Hound on Stadium Drive! \nMust be pre-approved to adopt. See our Cats/Kittens and Dogs/Puppies pages here: \nCats and Kittens – Kalamazoo Animal Rescue \nDogs and Puppies – Kalamazoo Animal Rescue
URL:https://www.kalamazooanimalrescue.org/event/adoption-event-chow-hound-kalamazoo/2026-08-08/
LOCATION:Chow Hound – Stadium Dr.\, 5097 Century Ave Suite A\, Kalamazoo\, MI\, 49006\, United States
CATEGORIES:Adoption Events
ATTACH;FMTTYPE=image/png:https://www.kalamazooanimalrescue.org/wp-content/uploads/ADOPTION-EVENT1.png
END:VEVENT
BEGIN:VEVENT
DTSTART;TZID=America/New_York:20260912T110000
DTEND;TZID=America/New_York:20260912T130000
DTSTAMP:20260419T212025
CREATED:20250804T202534Z
LAST-MODIFIED:20250903T152248Z
UID:10001213-1789210800-1789218000@www.kalamazooanimalrescue.org
SUMMARY:Adoption Event - Chow Hound Kalamazoo
DESCRIPTION:Every 2nd Saturday of the Month – come see adoptable animals at Chow Hound on Stadium Drive! \nMust be pre-approved to adopt. See our Cats/Kittens and Dogs/Puppies pages here: \nCats and Kittens – Kalamazoo Animal Rescue \nDogs and Puppies – Kalamazoo Animal Rescue
URL:https://www.kalamazooanimalrescue.org/event/adoption-event-chow-hound-kalamazoo/2026-09-12/
LOCATION:Chow Hound – Stadium Dr.\, 5097 Century Ave Suite A\, Kalamazoo\, MI\, 49006\, United States
CATEGORIES:Adoption Events
ATTACH;FMTTYPE=image/png:https://www.kalamazooanimalrescue.org/wp-content/uploads/ADOPTION-EVENT1.png
END:VEVENT
BEGIN:VEVENT
DTSTART;TZID=America/New_York:20261010T110000
DTEND;TZID=America/New_York:20261010T130000
DTSTAMP:20260419T212025
CREATED:20250804T202534Z
LAST-MODIFIED:20250903T152248Z
UID:10001214-1791630000-1791637200@www.kalamazooanimalrescue.org
SUMMARY:Adoption Event - Chow Hound Kalamazoo
DESCRIPTION:Every 2nd Saturday of the Month – come see adoptable animals at Chow Hound on Stadium Drive! \nMust be pre-approved to adopt. See our Cats/Kittens and Dogs/Puppies pages here: \nCats and Kittens – Kalamazoo Animal Rescue \nDogs and Puppies – Kalamazoo Animal Rescue
URL:https://www.kalamazooanimalrescue.org/event/adoption-event-chow-hound-kalamazoo/2026-10-10/
LOCATION:Chow Hound – Stadium Dr.\, 5097 Century Ave Suite A\, Kalamazoo\, MI\, 49006\, United States
CATEGORIES:Adoption Events
ATTACH;FMTTYPE=image/png:https://www.kalamazooanimalrescue.org/wp-content/uploads/ADOPTION-EVENT1.png
END:VEVENT
BEGIN:VEVENT
DTSTART;TZID=America/New_York:20261114T110000
DTEND;TZID=America/New_York:20261114T130000
DTSTAMP:20260419T212025
CREATED:20250804T202534Z
LAST-MODIFIED:20250903T152248Z
UID:10001215-1794654000-1794661200@www.kalamazooanimalrescue.org
SUMMARY:Adoption Event - Chow Hound Kalamazoo
DESCRIPTION:Every 2nd Saturday of the Month – come see adoptable animals at Chow Hound on Stadium Drive! \nMust be pre-approved to adopt. See our Cats/Kittens and Dogs/Puppies pages here: \nCats and Kittens – Kalamazoo Animal Rescue \nDogs and Puppies – Kalamazoo Animal Rescue
URL:https://www.kalamazooanimalrescue.org/event/adoption-event-chow-hound-kalamazoo/2026-11-14/
LOCATION:Chow Hound – Stadium Dr.\, 5097 Century Ave Suite A\, Kalamazoo\, MI\, 49006\, United States
CATEGORIES:Adoption Events
ATTACH;FMTTYPE=image/png:https://www.kalamazooanimalrescue.org/wp-content/uploads/ADOPTION-EVENT1.png
END:VEVENT
BEGIN:VEVENT
DTSTART;TZID=America/New_York:20261212T110000
DTEND;TZID=America/New_York:20261212T130000
DTSTAMP:20260419T212025
CREATED:20250804T202534Z
LAST-MODIFIED:20250903T152248Z
UID:10001216-1797073200-1797080400@www.kalamazooanimalrescue.org
SUMMARY:Adoption Event - Chow Hound Kalamazoo
DESCRIPTION:Every 2nd Saturday of the Month – come see adoptable animals at Chow Hound on Stadium Drive! \nMust be pre-approved to adopt. See our Cats/Kittens and Dogs/Puppies pages here: \nCats and Kittens – Kalamazoo Animal Rescue \nDogs and Puppies – Kalamazoo Animal Rescue
URL:https://www.kalamazooanimalrescue.org/event/adoption-event-chow-hound-kalamazoo/2026-12-12/
LOCATION:Chow Hound – Stadium Dr.\, 5097 Century Ave Suite A\, Kalamazoo\, MI\, 49006\, United States
CATEGORIES:Adoption Events
ATTACH;FMTTYPE=image/png:https://www.kalamazooanimalrescue.org/wp-content/uploads/ADOPTION-EVENT1.png
END:VEVENT
BEGIN:VEVENT
DTSTART;TZID=America/New_York:20270109T110000
DTEND;TZID=America/New_York:20270109T130000
DTSTAMP:20260419T212025
CREATED:20250804T202534Z
LAST-MODIFIED:20250903T152248Z
UID:10001217-1799492400-1799499600@www.kalamazooanimalrescue.org
SUMMARY:Adoption Event - Chow Hound Kalamazoo
DESCRIPTION:Every 2nd Saturday of the Month – come see adoptable animals at Chow Hound on Stadium Drive! \nMust be pre-approved to adopt. See our Cats/Kittens and Dogs/Puppies pages here: \nCats and Kittens – Kalamazoo Animal Rescue \nDogs and Puppies – Kalamazoo Animal Rescue
URL:https://www.kalamazooanimalrescue.org/event/adoption-event-chow-hound-kalamazoo/2027-01-09/
LOCATION:Chow Hound – Stadium Dr.\, 5097 Century Ave Suite A\, Kalamazoo\, MI\, 49006\, United States
CATEGORIES:Adoption Events
ATTACH;FMTTYPE=image/png:https://www.kalamazooanimalrescue.org/wp-content/uploads/ADOPTION-EVENT1.png
END:VEVENT
BEGIN:VEVENT
DTSTART;TZID=America/New_York:20270213T110000
DTEND;TZID=America/New_York:20270213T130000
DTSTAMP:20260419T212025
CREATED:20250804T202534Z
LAST-MODIFIED:20250903T152248Z
UID:10001218-1802516400-1802523600@www.kalamazooanimalrescue.org
SUMMARY:Adoption Event - Chow Hound Kalamazoo
DESCRIPTION:Every 2nd Saturday of the Month – come see adoptable animals at Chow Hound on Stadium Drive! \nMust be pre-approved to adopt. See our Cats/Kittens and Dogs/Puppies pages here: \nCats and Kittens – Kalamazoo Animal Rescue \nDogs and Puppies – Kalamazoo Animal Rescue
URL:https://www.kalamazooanimalrescue.org/event/adoption-event-chow-hound-kalamazoo/2027-02-13/
LOCATION:Chow Hound – Stadium Dr.\, 5097 Century Ave Suite A\, Kalamazoo\, MI\, 49006\, United States
CATEGORIES:Adoption Events
ATTACH;FMTTYPE=image/png:https://www.kalamazooanimalrescue.org/wp-content/uploads/ADOPTION-EVENT1.png
END:VEVENT
BEGIN:VEVENT
DTSTART;TZID=America/New_York:20270313T110000
DTEND;TZID=America/New_York:20270313T130000
DTSTAMP:20260419T212025
CREATED:20250804T202534Z
LAST-MODIFIED:20250903T152248Z
UID:10001219-1804935600-1804942800@www.kalamazooanimalrescue.org
SUMMARY:Adoption Event - Chow Hound Kalamazoo
DESCRIPTION:Every 2nd Saturday of the Month – come see adoptable animals at Chow Hound on Stadium Drive! \nMust be pre-approved to adopt. See our Cats/Kittens and Dogs/Puppies pages here: \nCats and Kittens – Kalamazoo Animal Rescue \nDogs and Puppies – Kalamazoo Animal Rescue
URL:https://www.kalamazooanimalrescue.org/event/adoption-event-chow-hound-kalamazoo/2027-03-13/
LOCATION:Chow Hound – Stadium Dr.\, 5097 Century Ave Suite A\, Kalamazoo\, MI\, 49006\, United States
CATEGORIES:Adoption Events
ATTACH;FMTTYPE=image/png:https://www.kalamazooanimalrescue.org/wp-content/uploads/ADOPTION-EVENT1.png
END:VEVENT
BEGIN:VEVENT
DTSTART;TZID=America/New_York:20270410T110000
DTEND;TZID=America/New_York:20270410T130000
DTSTAMP:20260419T212025
CREATED:20250804T202534Z
LAST-MODIFIED:20250903T152248Z
UID:10001220-1807354800-1807362000@www.kalamazooanimalrescue.org
SUMMARY:Adoption Event - Chow Hound Kalamazoo
DESCRIPTION:Every 2nd Saturday of the Month – come see adoptable animals at Chow Hound on Stadium Drive! \nMust be pre-approved to adopt. See our Cats/Kittens and Dogs/Puppies pages here: \nCats and Kittens – Kalamazoo Animal Rescue \nDogs and Puppies – Kalamazoo Animal Rescue
URL:https://www.kalamazooanimalrescue.org/event/adoption-event-chow-hound-kalamazoo/2027-04-10/
LOCATION:Chow Hound – Stadium Dr.\, 5097 Century Ave Suite A\, Kalamazoo\, MI\, 49006\, United States
CATEGORIES:Adoption Events
ATTACH;FMTTYPE=image/png:https://www.kalamazooanimalrescue.org/wp-content/uploads/ADOPTION-EVENT1.png
END:VEVENT
BEGIN:VEVENT
DTSTART;TZID=America/New_York:20270508T110000
DTEND;TZID=America/New_York:20270508T130000
DTSTAMP:20260419T212025
CREATED:20250804T202534Z
LAST-MODIFIED:20250903T152248Z
UID:10001221-1809774000-1809781200@www.kalamazooanimalrescue.org
SUMMARY:Adoption Event - Chow Hound Kalamazoo
DESCRIPTION:Every 2nd Saturday of the Month – come see adoptable animals at Chow Hound on Stadium Drive! \nMust be pre-approved to adopt. See our Cats/Kittens and Dogs/Puppies pages here: \nCats and Kittens – Kalamazoo Animal Rescue \nDogs and Puppies – Kalamazoo Animal Rescue
URL:https://www.kalamazooanimalrescue.org/event/adoption-event-chow-hound-kalamazoo/2027-05-08/
LOCATION:Chow Hound – Stadium Dr.\, 5097 Century Ave Suite A\, Kalamazoo\, MI\, 49006\, United States
CATEGORIES:Adoption Events
ATTACH;FMTTYPE=image/png:https://www.kalamazooanimalrescue.org/wp-content/uploads/ADOPTION-EVENT1.png
END:VEVENT
BEGIN:VEVENT
DTSTART;TZID=America/New_York:20270612T110000
DTEND;TZID=America/New_York:20270612T130000
DTSTAMP:20260419T212025
CREATED:20250804T202534Z
LAST-MODIFIED:20250903T152248Z
UID:10001222-1812798000-1812805200@www.kalamazooanimalrescue.org
SUMMARY:Adoption Event - Chow Hound Kalamazoo
DESCRIPTION:Every 2nd Saturday of the Month – come see adoptable animals at Chow Hound on Stadium Drive! \nMust be pre-approved to adopt. See our Cats/Kittens and Dogs/Puppies pages here: \nCats and Kittens – Kalamazoo Animal Rescue \nDogs and Puppies – Kalamazoo Animal Rescue
URL:https://www.kalamazooanimalrescue.org/event/adoption-event-chow-hound-kalamazoo/2027-06-12/
LOCATION:Chow Hound – Stadium Dr.\, 5097 Century Ave Suite A\, Kalamazoo\, MI\, 49006\, United States
CATEGORIES:Adoption Events
ATTACH;FMTTYPE=image/png:https://www.kalamazooanimalrescue.org/wp-content/uploads/ADOPTION-EVENT1.png
END:VEVENT
BEGIN:VEVENT
DTSTART;TZID=America/New_York:20270710T110000
DTEND;TZID=America/New_York:20270710T130000
DTSTAMP:20260419T212025
CREATED:20250804T202534Z
LAST-MODIFIED:20250903T152248Z
UID:10001223-1815217200-1815224400@www.kalamazooanimalrescue.org
SUMMARY:Adoption Event - Chow Hound Kalamazoo
DESCRIPTION:Every 2nd Saturday of the Month – come see adoptable animals at Chow Hound on Stadium Drive! \nMust be pre-approved to adopt. See our Cats/Kittens and Dogs/Puppies pages here: \nCats and Kittens – Kalamazoo Animal Rescue \nDogs and Puppies – Kalamazoo Animal Rescue
URL:https://www.kalamazooanimalrescue.org/event/adoption-event-chow-hound-kalamazoo/2027-07-10/
LOCATION:Chow Hound – Stadium Dr.\, 5097 Century Ave Suite A\, Kalamazoo\, MI\, 49006\, United States
CATEGORIES:Adoption Events
ATTACH;FMTTYPE=image/png:https://www.kalamazooanimalrescue.org/wp-content/uploads/ADOPTION-EVENT1.png
END:VEVENT
BEGIN:VEVENT
DTSTART;TZID=America/New_York:20270814T110000
DTEND;TZID=America/New_York:20270814T130000
DTSTAMP:20260419T212025
CREATED:20250804T202534Z
LAST-MODIFIED:20250903T152248Z
UID:10001224-1818241200-1818248400@www.kalamazooanimalrescue.org
SUMMARY:Adoption Event - Chow Hound Kalamazoo
DESCRIPTION:Every 2nd Saturday of the Month – come see adoptable animals at Chow Hound on Stadium Drive! \nMust be pre-approved to adopt. See our Cats/Kittens and Dogs/Puppies pages here: \nCats and Kittens – Kalamazoo Animal Rescue \nDogs and Puppies – Kalamazoo Animal Rescue
URL:https://www.kalamazooanimalrescue.org/event/adoption-event-chow-hound-kalamazoo/2027-08-14/
LOCATION:Chow Hound – Stadium Dr.\, 5097 Century Ave Suite A\, Kalamazoo\, MI\, 49006\, United States
CATEGORIES:Adoption Events
ATTACH;FMTTYPE=image/png:https://www.kalamazooanimalrescue.org/wp-content/uploads/ADOPTION-EVENT1.png
END:VEVENT
BEGIN:VEVENT
DTSTART;TZID=America/New_York:20270911T110000
DTEND;TZID=America/New_York:20270911T130000
DTSTAMP:20260419T212025
CREATED:20250804T202534Z
LAST-MODIFIED:20250903T152248Z
UID:10001225-1820660400-1820667600@www.kalamazooanimalrescue.org
SUMMARY:Adoption Event - Chow Hound Kalamazoo
DESCRIPTION:Every 2nd Saturday of the Month – come see adoptable animals at Chow Hound on Stadium Drive! \nMust be pre-approved to adopt. See our Cats/Kittens and Dogs/Puppies pages here: \nCats and Kittens – Kalamazoo Animal Rescue \nDogs and Puppies – Kalamazoo Animal Rescue
URL:https://www.kalamazooanimalrescue.org/event/adoption-event-chow-hound-kalamazoo/2027-09-11/
LOCATION:Chow Hound – Stadium Dr.\, 5097 Century Ave Suite A\, Kalamazoo\, MI\, 49006\, United States
CATEGORIES:Adoption Events
ATTACH;FMTTYPE=image/png:https://www.kalamazooanimalrescue.org/wp-content/uploads/ADOPTION-EVENT1.png
END:VEVENT
BEGIN:VEVENT
DTSTART;TZID=America/New_York:20271009T110000
DTEND;TZID=America/New_York:20271009T130000
DTSTAMP:20260419T212025
CREATED:20250804T202534Z
LAST-MODIFIED:20250903T152248Z
UID:10001226-1823079600-1823086800@www.kalamazooanimalrescue.org
SUMMARY:Adoption Event - Chow Hound Kalamazoo
DESCRIPTION:Every 2nd Saturday of the Month – come see adoptable animals at Chow Hound on Stadium Drive! \nMust be pre-approved to adopt. See our Cats/Kittens and Dogs/Puppies pages here: \nCats and Kittens – Kalamazoo Animal Rescue \nDogs and Puppies – Kalamazoo Animal Rescue
URL:https://www.kalamazooanimalrescue.org/event/adoption-event-chow-hound-kalamazoo/2027-10-09/
LOCATION:Chow Hound – Stadium Dr.\, 5097 Century Ave Suite A\, Kalamazoo\, MI\, 49006\, United States
CATEGORIES:Adoption Events
ATTACH;FMTTYPE=image/png:https://www.kalamazooanimalrescue.org/wp-content/uploads/ADOPTION-EVENT1.png
END:VEVENT
BEGIN:VEVENT
DTSTART;TZID=America/New_York:20271113T110000
DTEND;TZID=America/New_York:20271113T130000
DTSTAMP:20260419T212025
CREATED:20250804T202534Z
LAST-MODIFIED:20250903T152248Z
UID:10001227-1826103600-1826110800@www.kalamazooanimalrescue.org
SUMMARY:Adoption Event - Chow Hound Kalamazoo
DESCRIPTION:Every 2nd Saturday of the Month – come see adoptable animals at Chow Hound on Stadium Drive! \nMust be pre-approved to adopt. See our Cats/Kittens and Dogs/Puppies pages here: \nCats and Kittens – Kalamazoo Animal Rescue \nDogs and Puppies – Kalamazoo Animal Rescue
URL:https://www.kalamazooanimalrescue.org/event/adoption-event-chow-hound-kalamazoo/2027-11-13/
LOCATION:Chow Hound – Stadium Dr.\, 5097 Century Ave Suite A\, Kalamazoo\, MI\, 49006\, United States
CATEGORIES:Adoption Events
ATTACH;FMTTYPE=image/png:https://www.kalamazooanimalrescue.org/wp-content/uploads/ADOPTION-EVENT1.png
END:VEVENT
BEGIN:VEVENT
DTSTART;TZID=America/New_York:20271211T110000
DTEND;TZID=America/New_York:20271211T130000
DTSTAMP:20260419T212025
CREATED:20250804T202534Z
LAST-MODIFIED:20250903T152248Z
UID:10001228-1828522800-1828530000@www.kalamazooanimalrescue.org
SUMMARY:Adoption Event - Chow Hound Kalamazoo
DESCRIPTION:Every 2nd Saturday of the Month – come see adoptable animals at Chow Hound on Stadium Drive! \nMust be pre-approved to adopt. See our Cats/Kittens and Dogs/Puppies pages here: \nCats and Kittens – Kalamazoo Animal Rescue \nDogs and Puppies – Kalamazoo Animal Rescue
URL:https://www.kalamazooanimalrescue.org/event/adoption-event-chow-hound-kalamazoo/2027-12-11/
LOCATION:Chow Hound – Stadium Dr.\, 5097 Century Ave Suite A\, Kalamazoo\, MI\, 49006\, United States
CATEGORIES:Adoption Events
ATTACH;FMTTYPE=image/png:https://www.kalamazooanimalrescue.org/wp-content/uploads/ADOPTION-EVENT1.png
END:VEVENT
BEGIN:VEVENT
DTSTART;TZID=America/New_York:20280108T110000
DTEND;TZID=America/New_York:20280108T130000
DTSTAMP:20260419T212025
CREATED:20250804T202534Z
LAST-MODIFIED:20250903T152248Z
UID:10001229-1830942000-1830949200@www.kalamazooanimalrescue.org
SUMMARY:Adoption Event - Chow Hound Kalamazoo
DESCRIPTION:Every 2nd Saturday of the Month – come see adoptable animals at Chow Hound on Stadium Drive! \nMust be pre-approved to adopt. See our Cats/Kittens and Dogs/Puppies pages here: \nCats and Kittens – Kalamazoo Animal Rescue \nDogs and Puppies – Kalamazoo Animal Rescue
URL:https://www.kalamazooanimalrescue.org/event/adoption-event-chow-hound-kalamazoo/2028-01-08/
LOCATION:Chow Hound – Stadium Dr.\, 5097 Century Ave Suite A\, Kalamazoo\, MI\, 49006\, United States
CATEGORIES:Adoption Events
ATTACH;FMTTYPE=image/png:https://www.kalamazooanimalrescue.org/wp-content/uploads/ADOPTION-EVENT1.png
END:VEVENT
BEGIN:VEVENT
DTSTART;TZID=America/New_York:20280212T110000
DTEND;TZID=America/New_York:20280212T130000
DTSTAMP:20260419T212025
CREATED:20250804T202534Z
LAST-MODIFIED:20250903T152248Z
UID:10001230-1833966000-1833973200@www.kalamazooanimalrescue.org
SUMMARY:Adoption Event - Chow Hound Kalamazoo
DESCRIPTION:Every 2nd Saturday of the Month – come see adoptable animals at Chow Hound on Stadium Drive! \nMust be pre-approved to adopt. See our Cats/Kittens and Dogs/Puppies pages here: \nCats and Kittens – Kalamazoo Animal Rescue \nDogs and Puppies – Kalamazoo Animal Rescue
URL:https://www.kalamazooanimalrescue.org/event/adoption-event-chow-hound-kalamazoo/2028-02-12/
LOCATION:Chow Hound – Stadium Dr.\, 5097 Century Ave Suite A\, Kalamazoo\, MI\, 49006\, United States
CATEGORIES:Adoption Events
ATTACH;FMTTYPE=image/png:https://www.kalamazooanimalrescue.org/wp-content/uploads/ADOPTION-EVENT1.png
END:VEVENT
BEGIN:VEVENT
DTSTART;TZID=America/New_York:20280311T110000
DTEND;TZID=America/New_York:20280311T130000
DTSTAMP:20260419T212025
CREATED:20250804T202534Z
LAST-MODIFIED:20250903T152248Z
UID:10001231-1836385200-1836392400@www.kalamazooanimalrescue.org
SUMMARY:Adoption Event - Chow Hound Kalamazoo
DESCRIPTION:Every 2nd Saturday of the Month – come see adoptable animals at Chow Hound on Stadium Drive! \nMust be pre-approved to adopt. See our Cats/Kittens and Dogs/Puppies pages here: \nCats and Kittens – Kalamazoo Animal Rescue \nDogs and Puppies – Kalamazoo Animal Rescue
URL:https://www.kalamazooanimalrescue.org/event/adoption-event-chow-hound-kalamazoo/2028-03-11/
LOCATION:Chow Hound – Stadium Dr.\, 5097 Century Ave Suite A\, Kalamazoo\, MI\, 49006\, United States
CATEGORIES:Adoption Events
ATTACH;FMTTYPE=image/png:https://www.kalamazooanimalrescue.org/wp-content/uploads/ADOPTION-EVENT1.png
END:VEVENT
BEGIN:VEVENT
DTSTART;TZID=America/New_York:20280408T110000
DTEND;TZID=America/New_York:20280408T130000
DTSTAMP:20260419T212025
CREATED:20250804T202534Z
LAST-MODIFIED:20250903T152248Z
UID:10001232-1838804400-1838811600@www.kalamazooanimalrescue.org
SUMMARY:Adoption Event - Chow Hound Kalamazoo
DESCRIPTION:Every 2nd Saturday of the Month – come see adoptable animals at Chow Hound on Stadium Drive! \nMust be pre-approved to adopt. See our Cats/Kittens and Dogs/Puppies pages here: \nCats and Kittens – Kalamazoo Animal Rescue \nDogs and Puppies – Kalamazoo Animal Rescue
URL:https://www.kalamazooanimalrescue.org/event/adoption-event-chow-hound-kalamazoo/2028-04-08/
LOCATION:Chow Hound – Stadium Dr.\, 5097 Century Ave Suite A\, Kalamazoo\, MI\, 49006\, United States
CATEGORIES:Adoption Events
ATTACH;FMTTYPE=image/png:https://www.kalamazooanimalrescue.org/wp-content/uploads/ADOPTION-EVENT1.png
END:VEVENT
BEGIN:VEVENT
DTSTART;TZID=America/New_York:20280513T110000
DTEND;TZID=America/New_York:20280513T130000
DTSTAMP:20260419T212025
CREATED:20250804T202534Z
LAST-MODIFIED:20250903T152248Z
UID:10001233-1841828400-1841835600@www.kalamazooanimalrescue.org
SUMMARY:Adoption Event - Chow Hound Kalamazoo
DESCRIPTION:Every 2nd Saturday of the Month – come see adoptable animals at Chow Hound on Stadium Drive! \nMust be pre-approved to adopt. See our Cats/Kittens and Dogs/Puppies pages here: \nCats and Kittens – Kalamazoo Animal Rescue \nDogs and Puppies – Kalamazoo Animal Rescue
URL:https://www.kalamazooanimalrescue.org/event/adoption-event-chow-hound-kalamazoo/2028-05-13/
LOCATION:Chow Hound – Stadium Dr.\, 5097 Century Ave Suite A\, Kalamazoo\, MI\, 49006\, United States
CATEGORIES:Adoption Events
ATTACH;FMTTYPE=image/png:https://www.kalamazooanimalrescue.org/wp-content/uploads/ADOPTION-EVENT1.png
END:VEVENT
BEGIN:VEVENT
DTSTART;TZID=America/New_York:20280610T110000
DTEND;TZID=America/New_York:20280610T130000
DTSTAMP:20260419T212025
CREATED:20250804T202534Z
LAST-MODIFIED:20250903T152248Z
UID:10001234-1844247600-1844254800@www.kalamazooanimalrescue.org
SUMMARY:Adoption Event - Chow Hound Kalamazoo
DESCRIPTION:Every 2nd Saturday of the Month – come see adoptable animals at Chow Hound on Stadium Drive! \nMust be pre-approved to adopt. See our Cats/Kittens and Dogs/Puppies pages here: \nCats and Kittens – Kalamazoo Animal Rescue \nDogs and Puppies – Kalamazoo Animal Rescue
URL:https://www.kalamazooanimalrescue.org/event/adoption-event-chow-hound-kalamazoo/2028-06-10/
LOCATION:Chow Hound – Stadium Dr.\, 5097 Century Ave Suite A\, Kalamazoo\, MI\, 49006\, United States
CATEGORIES:Adoption Events
ATTACH;FMTTYPE=image/png:https://www.kalamazooanimalrescue.org/wp-content/uploads/ADOPTION-EVENT1.png
END:VEVENT
BEGIN:VEVENT
DTSTART;TZID=America/New_York:20280708T110000
DTEND;TZID=America/New_York:20280708T130000
DTSTAMP:20260419T212025
CREATED:20250804T202534Z
LAST-MODIFIED:20250903T152248Z
UID:10001235-1846666800-1846674000@www.kalamazooanimalrescue.org
SUMMARY:Adoption Event - Chow Hound Kalamazoo
DESCRIPTION:Every 2nd Saturday of the Month – come see adoptable animals at Chow Hound on Stadium Drive! \nMust be pre-approved to adopt. See our Cats/Kittens and Dogs/Puppies pages here: \nCats and Kittens – Kalamazoo Animal Rescue \nDogs and Puppies – Kalamazoo Animal Rescue
URL:https://www.kalamazooanimalrescue.org/event/adoption-event-chow-hound-kalamazoo/2028-07-08/
LOCATION:Chow Hound – Stadium Dr.\, 5097 Century Ave Suite A\, Kalamazoo\, MI\, 49006\, United States
CATEGORIES:Adoption Events
ATTACH;FMTTYPE=image/png:https://www.kalamazooanimalrescue.org/wp-content/uploads/ADOPTION-EVENT1.png
END:VEVENT
BEGIN:VEVENT
DTSTART;TZID=America/New_York:20280812T110000
DTEND;TZID=America/New_York:20280812T130000
DTSTAMP:20260419T212025
CREATED:20250804T202534Z
LAST-MODIFIED:20250903T152248Z
UID:10001236-1849690800-1849698000@www.kalamazooanimalrescue.org
SUMMARY:Adoption Event - Chow Hound Kalamazoo
DESCRIPTION:Every 2nd Saturday of the Month – come see adoptable animals at Chow Hound on Stadium Drive! \nMust be pre-approved to adopt. See our Cats/Kittens and Dogs/Puppies pages here: \nCats and Kittens – Kalamazoo Animal Rescue \nDogs and Puppies – Kalamazoo Animal Rescue
URL:https://www.kalamazooanimalrescue.org/event/adoption-event-chow-hound-kalamazoo/2028-08-12/
LOCATION:Chow Hound – Stadium Dr.\, 5097 Century Ave Suite A\, Kalamazoo\, MI\, 49006\, United States
CATEGORIES:Adoption Events
ATTACH;FMTTYPE=image/png:https://www.kalamazooanimalrescue.org/wp-content/uploads/ADOPTION-EVENT1.png
END:VEVENT
BEGIN:VEVENT
DTSTART;TZID=America/New_York:20280909T110000
DTEND;TZID=America/New_York:20280909T130000
DTSTAMP:20260419T212025
CREATED:20250804T202534Z
LAST-MODIFIED:20250903T152248Z
UID:10001237-1852110000-1852117200@www.kalamazooanimalrescue.org
SUMMARY:Adoption Event - Chow Hound Kalamazoo
DESCRIPTION:Every 2nd Saturday of the Month – come see adoptable animals at Chow Hound on Stadium Drive! \nMust be pre-approved to adopt. See our Cats/Kittens and Dogs/Puppies pages here: \nCats and Kittens – Kalamazoo Animal Rescue \nDogs and Puppies – Kalamazoo Animal Rescue
URL:https://www.kalamazooanimalrescue.org/event/adoption-event-chow-hound-kalamazoo/2028-09-09/
LOCATION:Chow Hound – Stadium Dr.\, 5097 Century Ave Suite A\, Kalamazoo\, MI\, 49006\, United States
CATEGORIES:Adoption Events
ATTACH;FMTTYPE=image/png:https://www.kalamazooanimalrescue.org/wp-content/uploads/ADOPTION-EVENT1.png
END:VEVENT
BEGIN:VEVENT
DTSTART;TZID=America/New_York:20281014T110000
DTEND;TZID=America/New_York:20281014T130000
DTSTAMP:20260419T212025
CREATED:20250804T202534Z
LAST-MODIFIED:20250903T152248Z
UID:10001238-1855134000-1855141200@www.kalamazooanimalrescue.org
SUMMARY:Adoption Event - Chow Hound Kalamazoo
DESCRIPTION:Every 2nd Saturday of the Month – come see adoptable animals at Chow Hound on Stadium Drive! \nMust be pre-approved to adopt. See our Cats/Kittens and Dogs/Puppies pages here: \nCats and Kittens – Kalamazoo Animal Rescue \nDogs and Puppies – Kalamazoo Animal Rescue
URL:https://www.kalamazooanimalrescue.org/event/adoption-event-chow-hound-kalamazoo/2028-10-14/
LOCATION:Chow Hound – Stadium Dr.\, 5097 Century Ave Suite A\, Kalamazoo\, MI\, 49006\, United States
CATEGORIES:Adoption Events
ATTACH;FMTTYPE=image/png:https://www.kalamazooanimalrescue.org/wp-content/uploads/ADOPTION-EVENT1.png
END:VEVENT
END:VCALENDAR